BEGIN:VCALENDAR
VERSION:2.0
PRODID:-//Squarespace Inc/Squarespace 6//v6//EN
BEGIN:VEVENT
UID:5c4ac440f950b7df19551250@squarespace.com
DTSTAMP:20190125T081044Z
DTSTART:20190317T020000Z
DTEND:20190317T053000Z
SUMMARY:Race 2 - Autumn Series 2018/2019 - Errol Hazelwood
END:VEVENT
END:VCALENDAR
