BEGIN:VCALENDAR
VERSION:2.0
PRODID:-//Squarespace Inc/Squarespace 6//v6//EN
BEGIN:VEVENT
UID:5c4ac3e44d7a9c275dab4768@squarespace.com
DTSTAMP:20190125T080901Z
DTSTART:20190224T020000Z
DTEND:20190224T053000Z
SUMMARY:Race 1- Autumn Series 2018/2019
END:VEVENT
END:VCALENDAR
