BEGIN:VCALENDAR
VERSION:2.0
PRODID:-//Squarespace Inc/Squarespace 6//v6//EN
BEGIN:VEVENT
UID:5b4d8bebaa4a99d6f5b2e80c@squarespace.com
DTSTAMP:20180723T094657Z
DTSTART:20180729T043000Z
DTEND:20180729T083000Z
SUMMARY:Jo Fabro Quartet - Live Jazz at Blues Point Hotel. July 29 from 2.3
 0PM
END:VEVENT
END:VCALENDAR
