BEGIN:VCALENDAR
VERSION:2.0
PRODID:-//Squarespace Inc/Squarespace 6//v6//EN
BEGIN:VEVENT
UID:59ba2534935d81c62ec8f0c7@squarespace.com
DTSTAMP:20170914T065306Z
DTSTART:20170917T020000Z
DTEND:20170917T063000Z
SUMMARY:Race 3 - Spring Series 2017/2018
END:VEVENT
END:VCALENDAR
