BEGIN:VCALENDAR
VERSION:2.0
PRODID:-//Squarespace Inc/Squarespace 6//v6//EN
BEGIN:VEVENT
UID:5b5e5da9aa4a99bb719092a1@squarespace.com
DTSTAMP:20180730T055153Z
DTSTART:20180909T020000Z
DTEND:20180909T063000Z
SUMMARY:Race 3 - Spring Series 2018/2019
END:VEVENT
END:VCALENDAR
