BEGIN:VCALENDAR
VERSION:2.0
PRODID:-//Squarespace Inc/Squarespace 6//v6//EN
BEGIN:VEVENT
UID:59917b3a9f74563f0327a679@squarespace.com
DTSTAMP:20180730T055402Z
DTSTART:20180804T020000Z
DTEND:20180804T063000Z
SUMMARY:Race 1 - Spring Series 2018/2019
END:VEVENT
END:VCALENDAR
