BEGIN:VCALENDAR
VERSION:2.0
PRODID:-//Squarespace Inc/Squarespace 6//v6//EN
BEGIN:VEVENT
UID:59917c1346c3c4a29c128284@squarespace.com
DTSTAMP:20170814T103317Z
DTSTART:20170827T020000Z
DTEND:20170827T063000Z
SUMMARY:Race 2 - Spring Series 2017/2018
END:VEVENT
END:VCALENDAR
