BEGIN:VCALENDAR
VERSION:2.0
PRODID:-//Squarespace Inc/Squarespace 6//v6//EN
BEGIN:VEVENT
UID:5b5e5d1f562fa73ce966193d@squarespace.com
DTSTAMP:20180730T055352Z
DTSTART:20180826T020000Z
DTEND:20180826T063000Z
SUMMARY:Race 2 - Spring Series 2018/2019
END:VEVENT
END:VCALENDAR
