BEGIN:VCALENDAR
VERSION:2.0
PRODID:-//Squarespace Inc/Squarespace 6//v6//EN
BEGIN:VEVENT
UID:588ef8b96b8f5b152882a43b@squarespace.com
DTSTAMP:20170130T084637Z
DTSTART:20170708T020000Z
DTEND:20170708T060000Z
SUMMARY:Race 8 - Autumn Series 2016/2017
END:VEVENT
END:VCALENDAR
