BEGIN:VCALENDAR
VERSION:2.0
PRODID:-//Squarespace Inc/Squarespace 6//v6//EN
BEGIN:VEVENT
UID:5a4c39f80d929722a0dbb85f@squarespace.com
DTSTAMP:20190125T080754Z
DTSTART:20180714T020000Z
DTEND:20180714T060000Z
SUMMARY:Race 8 - Autumn Series 2017/2018
END:VEVENT
END:VCALENDAR
