BEGIN:VCALENDAR
VERSION:2.0
PRODID:-//Squarespace Inc/Squarespace 6//v6//EN
BEGIN:VEVENT
UID:588ef60f6a4963c4100de763@squarespace.com
DTSTAMP:20170130T082326Z
DTSTART:20170624T020000Z
DTEND:20170624T060000Z
SUMMARY:Race 7 - Autumn Series 2016/2017
END:VEVENT
END:VCALENDAR
