BEGIN:VCALENDAR
VERSION:2.0
PRODID:-//Squarespace Inc/Squarespace 6//v6//EN
BEGIN:VEVENT
UID:5a4c39b5f9619a965dd1c66d@squarespace.com
DTSTAMP:20180103T020321Z
DTSTART:20180623T020000Z
DTEND:20180623T060000Z
SUMMARY:Race 7 - Autumn Series 2017/2018
END:VEVENT
END:VCALENDAR
