BEGIN:VCALENDAR
VERSION:2.0
PRODID:-//Squarespace Inc/Squarespace 6//v6//EN
BEGIN:VEVENT
UID:588ef5c86b8f5b1528829533@squarespace.com
DTSTAMP:20170130T081456Z
DTSTART:20170610T020000Z
DTEND:20170610T060000Z
SUMMARY:Race 6 - Autumn Series 2016/2017
END:VEVENT
END:VCALENDAR
