BEGIN:VCALENDAR
VERSION:2.0
PRODID:-//Squarespace Inc/Squarespace 6//v6//EN
BEGIN:VEVENT
UID:5a4c3976c8302599dbe4ab24@squarespace.com
DTSTAMP:20180602T010631Z
DTSTART:20180616T020000Z
DTEND:20180616T060000Z
SUMMARY:Race 6 - Autumn Series 2017/2018 - Postponed
END:VEVENT
END:VCALENDAR
