BEGIN:VCALENDAR
VERSION:2.0
PRODID:-//Squarespace Inc/Squarespace 6//v6//EN
BEGIN:VEVENT
UID:588ef55d9f74563ea5562525@squarespace.com
DTSTAMP:20170130T081348Z
DTSTART:20170520T020000Z
DTEND:20170520T060000Z
SUMMARY:Race 5 - Autumn Series 2016/2017
END:VEVENT
END:VCALENDAR
