BEGIN:VCALENDAR
VERSION:2.0
PRODID:-//Squarespace Inc/Squarespace 6//v6//EN
BEGIN:VEVENT
UID:5a4c391c8165f5fe3485e3a0@squarespace.com
DTSTAMP:20180103T020040Z
DTSTART:20180519T020000Z
DTEND:20180519T060000Z
SUMMARY:Race 5 - Autumn Series 2017/2018
END:VEVENT
END:VCALENDAR
