BEGIN:VCALENDAR
VERSION:2.0
PRODID:-//Squarespace Inc/Squarespace 6//v6//EN
BEGIN:VEVENT
UID:588ef40ecd0f68ca7cf69a21@squarespace.com
DTSTAMP:20170424T072247Z
DTSTART:20170429T020000Z
DTEND:20170429T060000Z
SUMMARY:Race 4 - Autumn Series 2016/2017
END:VEVENT
END:VCALENDAR
