BEGIN:VCALENDAR
VERSION:2.0
PRODID:-//Squarespace Inc/Squarespace 6//v6//EN
BEGIN:VEVENT
UID:5a4c3892c8302599dbe482fe@squarespace.com
DTSTAMP:20180103T015933Z
DTSTART:20180428T020000Z
DTEND:20180428T060000Z
SUMMARY:Race 4 - Autumn Series 2017/2018
END:VEVENT
END:VCALENDAR
