BEGIN:VCALENDAR
VERSION:2.0
PRODID:-//Squarespace Inc/Squarespace 6//v6//EN
BEGIN:VEVENT
UID:588ef2c78419c2ec3fe60ccb@squarespace.com
DTSTAMP:20170130T080413Z
DTSTART:20170312T020000Z
DTEND:20170312T060000Z
SUMMARY:Race 2 - Autumn Series 2016/2017
END:VEVENT
END:VCALENDAR
