BEGIN:VCALENDAR
VERSION:2.0
PRODID:-//Squarespace Inc/Squarespace 6//v6//EN
BEGIN:VEVENT
UID:5a4c37f58165f5fe3485b049@squarespace.com
DTSTAMP:20180103T015613Z
DTSTART:20180318T020000Z
DTEND:20180318T060000Z
SUMMARY:Race 2 - Autumn Series 2017/2018
END:VEVENT
END:VCALENDAR
