BEGIN:VCALENDAR
VERSION:2.0
PRODID:-//Squarespace Inc/Squarespace 6//v6//EN
BEGIN:VEVENT
UID:5a4c37270d929722a0db3e9e@squarespace.com
DTSTAMP:20190116T185217Z
DTSTART:20180210T000000Z
DTEND:20180211T060000Z
SUMMARY:Don Deller Cruise 2018
END:VEVENT
END:VCALENDAR
