BEGIN:VCALENDAR
VERSION:2.0
PRODID:-//Squarespace Inc/Squarespace 6//v6//EN
BEGIN:VEVENT
UID:5c3f7d62cd836609c6c4807a@squarespace.com
DTSTAMP:20190116T185609Z
DTSTART:20190209T000000Z
DTEND:20190210T060000Z
SUMMARY:Don Deller Cruise 2019
END:VEVENT
END:VCALENDAR
