BEGIN:VCALENDAR
VERSION:2.0
PRODID:-//Squarespace Inc/Squarespace 6//v6//EN
BEGIN:VEVENT
UID:588ef2361e5b6c3aa810de4d@squarespace.com
DTSTAMP:20170130T080053Z
DTSTART:20170219T020000Z
DTEND:20170219T060000Z
SUMMARY:Race 1 - Autumn Series 2016/2017
END:VEVENT
END:VCALENDAR
