BEGIN:VCALENDAR
VERSION:2.0
PRODID:-//Squarespace Inc/Squarespace 6//v6//EN
BEGIN:VEVENT
UID:5a4c37a5c8302599dbe45adb@squarespace.com
DTSTAMP:20180103T015443Z
DTSTART:20180225T020000Z
DTEND:20180225T060000Z
SUMMARY:Race 1 - Autumn Series 2017/2018
END:VEVENT
END:VCALENDAR
