BEGIN:VCALENDAR
VERSION:2.0
PRODID:-//Squarespace Inc/Squarespace 6//v6//EN
BEGIN:VEVENT
UID:5a1e0445e2c483f5ad79703d@squarespace.com
DTSTAMP:20171207T203546Z
DTSTART:20171214T073000Z
DTEND:20171214T090000Z
SUMMARY:BPYC Meat Raffle. 10 Meat Trays + Cash Jackpot of $100 (for 14th De
 cember)
END:VEVENT
END:VCALENDAR
