BEGIN:VCALENDAR
VERSION:2.0
PRODID:-//Squarespace Inc/Squarespace 6//v6//EN
BEGIN:VEVENT
UID:5a326009652dea4e8a301988@squarespace.com
DTSTAMP:20171214T122345Z
DTSTART:20180118T073000Z
DTEND:20180118T090000Z
SUMMARY:BPYC Meat Raffle resumes after a Christmas break. 10 Meat Trays + C
 ash Jackpot of $200 (for 18th January)
END:VEVENT
END:VCALENDAR
