BEGIN:VCALENDAR
VERSION:2.0
PRODID:-//Squarespace Inc/Squarespace 6//v6//EN
BEGIN:VEVENT
UID:5aa86d3a0d9297e66df3ec4e@squarespace.com
DTSTAMP:20180319T102122Z
DTSTART:20180322T073000Z
DTEND:20180322T090000Z
SUMMARY:BPYC Meat Raffle. 10 Meat Trays + Cash Jackpot of $600 for 22 March 
 2018
END:VEVENT
END:VCALENDAR
