BEGIN:VCALENDAR
VERSION:2.0
PRODID:-//Squarespace Inc/Squarespace 6//v6//EN
BEGIN:VEVENT
UID:59c437d2edaed81b3a489e31@squarespace.com
DTSTAMP:20170921T222053Z
DTSTART:20171008T020000Z
DTEND:20171008T053000Z
SUMMARY:Race 4 - Spring Series 2017/18
END:VEVENT
END:VCALENDAR
