BEGIN:VCALENDAR
VERSION:2.0
PRODID:-//Squarespace Inc/Squarespace 6//v6//EN
BEGIN:VEVENT
UID:5b5e5dfb575d1fa8d6499b22@squarespace.com
DTSTAMP:20181111T015444Z
DTSTART:20181118T020000Z
DTEND:20181118T063000Z
SUMMARY:Postponed Race 4 - Spring Series 2018/19 - Allan Rintoul Trophy
END:VEVENT
END:VCALENDAR
