BEGIN:VCALENDAR
VERSION:2.0
PRODID:-//Squarespace Inc/Squarespace 6//v6//EN
BEGIN:VEVENT
UID:5a1df6ae9140b7c306a965cf@squarespace.com
DTSTAMP:20171128T235412Z
DTSTART:20171112T020000Z
DTEND:20171112T053000Z
SUMMARY:Race 6 - Spring Series 2017/18
END:VEVENT
END:VCALENDAR
