BEGIN:VCALENDAR
VERSION:2.0
PRODID:-//Squarespace Inc/Squarespace 6//v6//EN
BEGIN:VEVENT
UID:5b5ea82688251bab88a71ebc@squarespace.com
DTSTAMP:20180730T061646Z
DTSTART:20181104T020000Z
DTEND:20181104T063000Z
SUMMARY:Race 6 - Spring Series 2018/19 - Ladies Day Race
END:VEVENT
END:VCALENDAR
