BEGIN:VCALENDAR
VERSION:2.0
PRODID:-//Squarespace Inc/Squarespace 6//v6//EN
BEGIN:VEVENT
UID:5a1df73de4966b1342840037@squarespace.com
DTSTAMP:20171129T003910Z
DTSTART:20171126T020000Z
DTEND:20171126T053000Z
SUMMARY:Race 7 - Spring Series 2017/18
END:VEVENT
END:VCALENDAR
