BEGIN:VCALENDAR
VERSION:2.0
PRODID:-//Squarespace Inc/Squarespace 6//v6//EN
BEGIN:VEVENT
UID:5a1e01c341920213699a0cce@squarespace.com
DTSTAMP:20181116T090250Z
DTSTART:20181208T010000Z
DTEND:20181208T083000Z
SUMMARY:Sue Heyder Christmas Race and Lunch\, 2018
END:VEVENT
END:VCALENDAR
