BEGIN:VCALENDAR
VERSION:2.0
PRODID:-//Squarespace Inc/Squarespace 6//v6//EN
BEGIN:VEVENT
UID:5a1e029671c10b644b39cfa2@squarespace.com
DTSTAMP:20171214T113416Z
DTSTART:20180121T020000Z
DTEND:20180121T053000Z
SUMMARY:Race 8 - Spring Series 2017/18
END:VEVENT
END:VCALENDAR
