BEGIN:VCALENDAR
VERSION:2.0
PRODID:-//Squarespace Inc/Squarespace 6//v6//EN
BEGIN:VEVENT
UID:5b5ead08758d46f72c0a1baa@squarespace.com
DTSTAMP:20180730T061620Z
DTSTART:20190120T020000Z
DTEND:20190120T063000Z
SUMMARY:Race 8 - Spring Series 2018/19
END:VEVENT
END:VCALENDAR
