BEGIN:VCALENDAR
VERSION:2.0
PRODID:-//Squarespace Inc/Squarespace 6//v6//EN
BEGIN:VEVENT
UID:5b5ea9f070a6addd33f2228a@squarespace.com
DTSTAMP:20180730T060259Z
DTSTART:20181125T020000Z
DTEND:20181125T063000Z
SUMMARY:Race 7 - Spring Series 2018/19
END:VEVENT
END:VCALENDAR
