BEGIN:VCALENDAR
VERSION:2.0
PRODID:-//Squarespace Inc/Squarespace 6//v6//EN
BEGIN:VEVENT
UID:5b5e5f7803ce64f3c84bc9f0@squarespace.com
DTSTAMP:20180730T055300Z
DTSTART:20181021T020000Z
DTEND:20181021T063000Z
SUMMARY:Race 5 - Spring Series 2018/19
END:VEVENT
END:VCALENDAR
