BEGIN:VCALENDAR
VERSION:2.0
PRODID:-//Squarespace Inc/Squarespace 6//v6//EN
BEGIN:VEVENT
UID:578b184103596ee7136728c7@squarespace.com
DTSTAMP:20160825T074120Z
DTSTART:20170108T020000Z
DTEND:20170108T060000Z
SUMMARY:Race 8 - Spring Series 2016/2017
GEO:-26.644095;149.624852
LOCATION:Clark Island\, Port Jackson\, Australia
END:VEVENT
END:VCALENDAR
