BEGIN:VCALENDAR
VERSION:2.0
PRODID:-//Squarespace Inc/Squarespace 6//v6//EN
BEGIN:VEVENT
UID:5a4c3a2f9140b791bb2562ab@squarespace.com
DTSTAMP:20180717T102230Z
DTSTART:20180728T023000Z
DTEND:20180728T063000Z
SUMMARY:2017/2018 Annual General Meeting
END:VEVENT
END:VCALENDAR
