BEGIN:VCALENDAR
VERSION:2.0
PRODID:-//Squarespace Inc/Squarespace 6//v6//EN
BEGIN:VEVENT
UID:578b000915d5db22caded545@squarespace.com
DTSTAMP:20160721T225316Z
DTSTART:20160806T020000Z
DTEND:20160806T060000Z
SUMMARY:Race 1 - Spring Series 2016/2017
GEO:-33.862622;151.241028
LOCATION:Clark Island\, Port Jackson\, Australia
END:VEVENT
END:VCALENDAR
