BEGIN:VCALENDAR
VERSION:2.0
PRODID:-//Squarespace Inc/Squarespace 6//v6//EN
BEGIN:VEVENT
UID:578b0e1cbebafb8c81447c3c@squarespace.com
DTSTAMP:20160721T225334Z
DTSTART:20160821T020000Z
DTEND:20160821T060000Z
SUMMARY:Race 2 - Spring Series 2016/2017
GEO:-26.644095;149.624852
LOCATION:Clark Island\, Port Jackson\, Australia
END:VEVENT
END:VCALENDAR
