BEGIN:VCALENDAR
VERSION:2.0
PRODID:-//Squarespace Inc/Squarespace 6//v6//EN
BEGIN:VEVENT
UID:578b15d21b631bb076bf7f36@squarespace.com
DTSTAMP:20160825T074049Z
DTSTART:20161106T020000Z
DTEND:20161106T060000Z
SUMMARY:Race 6  - Spring Series 2016/2017
GEO:-26.644095;149.624852
LOCATION:Clark Island\, Port Jackson\, Australia
END:VEVENT
END:VCALENDAR
