BEGIN:VCALENDAR
VERSION:2.0
PRODID:-//Squarespace Inc/Squarespace 6//v6//EN
BEGIN:VEVENT
UID:578b16ee4402439969460819@squarespace.com
DTSTAMP:20160825T074104Z
DTSTART:20161120T020000Z
DTEND:20161120T060000Z
SUMMARY:Race 7 - Spring Series 2016/2017
GEO:-33.862622;151.241028
LOCATION:Clark Island\, Port Jackson\, NSW\, Australia
END:VEVENT
END:VCALENDAR
