BEGIN:VCALENDAR
VERSION:2.0
PRODID:-//Squarespace Inc/Squarespace 6//v6//EN
BEGIN:VEVENT
UID:578b1510e6f2e1b4d3c4695c@squarespace.com
DTSTAMP:20160825T074019Z
DTSTART:20161016T020000Z
DTEND:20161016T060000Z
SUMMARY:Race 5 - Ladies Day Race
GEO:-26.644095;149.624852
LOCATION:Clark Island\, Port Jackson\, Australia
END:VEVENT
END:VCALENDAR
